BEGIN:VCALENDAR
VERSION:2.0
PRODID:-//University of Lynchburg - ECPv6.15.18//NONSGML v1.0//EN
CALSCALE:GREGORIAN
METHOD:PUBLISH
X-WR-CALNAME:University of Lynchburg
X-ORIGINAL-URL:https://www.lynchburg.edu
X-WR-CALDESC:Events for University of Lynchburg
REFRESH-INTERVAL;VALUE=DURATION:PT1H
X-Robots-Tag:noindex
X-PUBLISHED-TTL:PT1H
BEGIN:VTIMEZONE
TZID:America/New_York
BEGIN:DAYLIGHT
TZOFFSETFROM:-0500
TZOFFSETTO:-0400
TZNAME:EDT
DTSTART:20250309T070000
END:DAYLIGHT
BEGIN:STANDARD
TZOFFSETFROM:-0400
TZOFFSETTO:-0500
TZNAME:EST
DTSTART:20251102T060000
END:STANDARD
BEGIN:DAYLIGHT
TZOFFSETFROM:-0500
TZOFFSETTO:-0400
TZNAME:EDT
DTSTART:20260308T070000
END:DAYLIGHT
BEGIN:STANDARD
TZOFFSETFROM:-0400
TZOFFSETTO:-0500
TZNAME:EST
DTSTART:20261101T060000
END:STANDARD
BEGIN:DAYLIGHT
TZOFFSETFROM:-0500
TZOFFSETTO:-0400
TZNAME:EDT
DTSTART:20270314T070000
END:DAYLIGHT
BEGIN:STANDARD
TZOFFSETFROM:-0400
TZOFFSETTO:-0500
TZNAME:EST
DTSTART:20271107T060000
END:STANDARD
END:VTIMEZONE
BEGIN:VEVENT
DTSTART;TZID=America/New_York:20260422T160000
DTEND;TZID=America/New_York:20260422T190000
DTSTAMP:20260422T045210
CREATED:20260120T205355Z
LAST-MODIFIED:20260420T183802Z
UID:10001654-1776873600-1776884400@www.lynchburg.edu
SUMMARY:University of Lynchburg Women's Lacrosse at Randolph
DESCRIPTION:University of Lynchburg Women’s Lacrosse at Randolph\nStreaming Video: https://go.flocollege.com/partner/odac?utm_medium=partner&utm_source=multiple&utm_content=landingpage&utm_term=university-of-lynchburg&contract_id=0063m00000n3zlfaam
URL:https://www.lynchburg.edu/event/university-of-lynchburg-womens-lacrosse-at-randolph/
LOCATION:Lynchburg\, Va.
CATEGORIES:Athletics
END:VEVENT
BEGIN:VEVENT
DTSTART;TZID=America/New_York:20260422T170000
DTEND;TZID=America/New_York:20260422T180000
DTSTAMP:20260422T045210
CREATED:20260312T191246Z
LAST-MODIFIED:20260421T213846Z
UID:10001915-1776877200-1776880800@www.lynchburg.edu
SUMMARY:Virtual - DEL Info Session
DESCRIPTION:Register Here!
URL:https://www.lynchburg.edu/event/virtual-del-info-session-6/
CATEGORIES:Information Session
END:VEVENT
BEGIN:VEVENT
DTSTART;TZID=America/New_York:20260422T190000
DTEND;TZID=America/New_York:20260422T220000
DTSTAMP:20260422T045210
CREATED:20260120T205356Z
LAST-MODIFIED:20260420T183803Z
UID:10001551-1776884400-1776895200@www.lynchburg.edu
SUMMARY:University of Lynchburg Men's Lacrosse at Randolph
DESCRIPTION:University of Lynchburg Men’s Lacrosse at Randolph\nStreaming Video: https://flosports.link/4m4hvNe
URL:https://www.lynchburg.edu/event/university-of-lynchburg-mens-lacrosse-at-randolph/
LOCATION:Lynchburg\, Va.
CATEGORIES:Athletics
END:VEVENT
END:VCALENDAR