BEGIN:VCALENDAR
VERSION:2.0
PRODID:-//University of Lynchburg - ECPv6.15.18//NONSGML v1.0//EN
CALSCALE:GREGORIAN
METHOD:PUBLISH
X-WR-CALNAME:University of Lynchburg
X-ORIGINAL-URL:https://www.lynchburg.edu
X-WR-CALDESC:Events for University of Lynchburg
REFRESH-INTERVAL;VALUE=DURATION:PT1H
X-Robots-Tag:noindex
X-PUBLISHED-TTL:PT1H
BEGIN:VTIMEZONE
TZID:America/New_York
BEGIN:DAYLIGHT
TZOFFSETFROM:-0500
TZOFFSETTO:-0400
TZNAME:EDT
DTSTART:20250309T070000
END:DAYLIGHT
BEGIN:STANDARD
TZOFFSETFROM:-0400
TZOFFSETTO:-0500
TZNAME:EST
DTSTART:20251102T060000
END:STANDARD
BEGIN:DAYLIGHT
TZOFFSETFROM:-0500
TZOFFSETTO:-0400
TZNAME:EDT
DTSTART:20260308T070000
END:DAYLIGHT
BEGIN:STANDARD
TZOFFSETFROM:-0400
TZOFFSETTO:-0500
TZNAME:EST
DTSTART:20261101T060000
END:STANDARD
BEGIN:DAYLIGHT
TZOFFSETFROM:-0500
TZOFFSETTO:-0400
TZNAME:EDT
DTSTART:20270314T070000
END:DAYLIGHT
BEGIN:STANDARD
TZOFFSETFROM:-0400
TZOFFSETTO:-0500
TZNAME:EST
DTSTART:20271107T060000
END:STANDARD
END:VTIMEZONE
BEGIN:VEVENT
DTSTART;TZID=America/New_York:20260419T000000
DTEND;TZID=America/New_York:20260420T235959
DTSTAMP:20260420T054938
CREATED:20260120T205253Z
LAST-MODIFIED:20260413T183854Z
UID:10001756-1776556800-1776729599@www.lynchburg.edu
SUMMARY:University of Lynchburg Men's Golf vs ODAC Championship - CODE RED
DESCRIPTION:University of Lynchburg Men’s Golf vs ODAC Championship – CODE RED
URL:https://www.lynchburg.edu/event/university-of-lynchburg-mens-golf-vs-odac-championship-code-red/
LOCATION:Amherst\, Va. / Poplar Grove Golf Club
CATEGORIES:Athletics
END:VEVENT
BEGIN:VEVENT
DTSTART;TZID=America/New_York:20260420T120000
DTEND;TZID=America/New_York:20260420T130000
DTSTAMP:20260420T054938
CREATED:20260121T205924Z
LAST-MODIFIED:20260224T205818Z
UID:10001772-1776686400-1776690000@www.lynchburg.edu
SUMMARY:TBC – Joint Presentation
DESCRIPTION:Roll Brew Coffee Truck DPT coffee truck fundrasier\n\n\n\n\n\n\nPresented by faculty members Prof. Heather Summers\, Prof. Sarah Dixon\, and Prof. Baylee Leazer. Part of the Spring 2026 Lunchtime Seminar Series at the Hall Campus Ballroom.
URL:https://www.lynchburg.edu/event/tbc-joint-presentation/
LOCATION:Memorial Ballroom\, Hall Campus Center
CATEGORIES:Lectures & Seminars
ATTACH;FMTTYPE=image/jpeg:https://www.lynchburg.edu/wp-content/uploads/2023/10/banner-university-research-center-1.jpg
ORGANIZER;CN="Percy Wooten Research Center":MAILTO:ULResearch@lynchburg.edu
END:VEVENT
END:VCALENDAR