BEGIN:VCALENDAR
VERSION:2.0
PRODID:-//University of Lynchburg - ECPv6.15.18//NONSGML v1.0//EN
CALSCALE:GREGORIAN
METHOD:PUBLISH
X-WR-CALNAME:University of Lynchburg
X-ORIGINAL-URL:https://www.lynchburg.edu
X-WR-CALDESC:Events for University of Lynchburg
REFRESH-INTERVAL;VALUE=DURATION:PT1H
X-Robots-Tag:noindex
X-PUBLISHED-TTL:PT1H
BEGIN:VTIMEZONE
TZID:America/New_York
BEGIN:DAYLIGHT
TZOFFSETFROM:-0500
TZOFFSETTO:-0400
TZNAME:EDT
DTSTART:20250309T070000
END:DAYLIGHT
BEGIN:STANDARD
TZOFFSETFROM:-0400
TZOFFSETTO:-0500
TZNAME:EST
DTSTART:20251102T060000
END:STANDARD
BEGIN:DAYLIGHT
TZOFFSETFROM:-0500
TZOFFSETTO:-0400
TZNAME:EDT
DTSTART:20260308T070000
END:DAYLIGHT
BEGIN:STANDARD
TZOFFSETFROM:-0400
TZOFFSETTO:-0500
TZNAME:EST
DTSTART:20261101T060000
END:STANDARD
BEGIN:DAYLIGHT
TZOFFSETFROM:-0500
TZOFFSETTO:-0400
TZNAME:EDT
DTSTART:20270314T070000
END:DAYLIGHT
BEGIN:STANDARD
TZOFFSETFROM:-0400
TZOFFSETTO:-0500
TZNAME:EST
DTSTART:20271107T060000
END:STANDARD
END:VTIMEZONE
BEGIN:VEVENT
DTSTART;TZID=America/New_York:20260417T000000
DTEND;TZID=America/New_York:20260417T235959
DTSTAMP:20260421T113824
CREATED:20260120T205244Z
LAST-MODIFIED:20260413T183849Z
UID:10001419-1776384000-1776470399@www.lynchburg.edu
SUMMARY:University of Lynchburg Track & Field  Virginia Challenge
DESCRIPTION:University of Lynchburg Track & Field  Virginia Challenge
URL:https://www.lynchburg.edu/event/university-of-lynchburg-track-field-virginia-challenge/
LOCATION:Charlottesville\, Va.
CATEGORIES:Athletics
END:VEVENT
BEGIN:VEVENT
DTSTART;TZID=America/New_York:20260417T000000
DTEND;TZID=America/New_York:20260417T235959
DTSTAMP:20260421T113824
CREATED:20260414T203352Z
LAST-MODIFIED:20260414T203352Z
UID:10001973-1776384000-1776470399@www.lynchburg.edu
SUMMARY:University of Lynchburg Equestrian vs Sweet Briar - NCEA Single Discipline Semifinals | #1-Seed vs. #4-Seed
DESCRIPTION:University of Lynchburg Equestrian vs Sweet Briar – NCEA Single Discipline Semifinals | #1-Seed vs. #4-Seed
URL:https://www.lynchburg.edu/event/university-of-lynchburg-equestrian-vs-sweet-briar-ncea-single-discipline-semifinals-1-seed-vs-4-seed/
LOCATION:Ocala\, Fla. / World Equestrian Center
CATEGORIES:Athletics
ATTACH;FMTTYPE=image/jpeg:https://www.lynchburg.edu/wp-content/uploads/2025/02/equestrian-header-3.jpg
END:VEVENT
BEGIN:VEVENT
DTSTART;TZID=America/New_York:20260417T093000
DTEND;TZID=America/New_York:20260417T103000
DTSTAMP:20260421T113824
CREATED:20260407T204110Z
LAST-MODIFIED:20260407T204111Z
UID:10001964-1776418200-1776421800@www.lynchburg.edu
SUMMARY:Bell Ringing to Celebrate GiveDays
DESCRIPTION:We hope you’ll join us to celebrate our GiveDays success and a fabulous Founders Week! Bell ringing tentative on completing our 1\,000 donor goal.
URL:https://www.lynchburg.edu/event/bell-ringing-to-celebrate-givedays/
ATTACH;FMTTYPE=image/jpeg:https://www.lynchburg.edu/wp-content/uploads/2026/04/54465941562_62fee05720_o-scaled.jpg
ORGANIZER;CN="Advancement":MAILTO:advancement@lynchburg.edu
END:VEVENT
BEGIN:VEVENT
DTSTART;TZID=America/New_York:20260417T120000
DTEND;TZID=America/New_York:20260417T140000
DTSTAMP:20260421T113824
CREATED:20260407T203830Z
LAST-MODIFIED:20260407T203831Z
UID:10001965-1776427200-1776434400@www.lynchburg.edu
SUMMARY:Service Opportunity: Parks and Recreation
DESCRIPTION:Help us create spring warm-up treat bags for seniors with Parks and Recreation to deliver to the Templeton Neighborhood Center for distribution.
URL:https://www.lynchburg.edu/event/service-opportunity-parks-and-recreation/
LOCATION:Drysdale Student Center\, 3rd Floor
CATEGORIES:Student Events
ATTACH;FMTTYPE=image/jpeg:https://www.lynchburg.edu/wp-content/uploads/2026/04/RS67420_DVN_3688-6-scaled.jpg
ORGANIZER;CN="Tasha Gillum":MAILTO:gillum_tm@lynchburg.edu
END:VEVENT
BEGIN:VEVENT
DTSTART;TZID=America/New_York:20260417T160000
DTEND;TZID=America/New_York:20260417T180000
DTSTAMP:20260421T113824
CREATED:20260407T203805Z
LAST-MODIFIED:20260407T203806Z
UID:10001966-1776441600-1776448800@www.lynchburg.edu
SUMMARY:Academic Awards Mixer
DESCRIPTION:Join us on the Hall Campus Center Balcony to celebrate the student winners of the Academic Awards with their families\, professors\, and alumni. All are welcome. Light appetizers will be served with a cash bar.
URL:https://www.lynchburg.edu/event/academic-awards-mixer/
LOCATION:Memorial Ballroom\, Hall Campus Center
CATEGORIES:Ceremony
ATTACH;FMTTYPE=image/jpeg:https://www.lynchburg.edu/wp-content/uploads/2026/04/54869643832_2e0e4ffcca_o-scaled.jpg
END:VEVENT
BEGIN:VEVENT
DTSTART;TZID=America/New_York:20260417T180000
DTEND;TZID=America/New_York:20260417T200000
DTSTAMP:20260421T113824
CREATED:20260407T125441Z
LAST-MODIFIED:20260407T125445Z
UID:10001943-1776448800-1776456000@www.lynchburg.edu
SUMMARY:Academic Awards Ceremony
DESCRIPTION:Annual Academic Awards Ceremony held in the Memorial Ballroom\, Hall Campus Center.
URL:https://www.lynchburg.edu/event/academic-awards-ceremony-2/
LOCATION:Memorial Ballroom\, Hall Campus Center
CATEGORIES:Academics
ATTACH;FMTTYPE=image/jpeg:https://www.lynchburg.edu/wp-content/uploads/2025/08/RS63620_20240419-773-scaled.jpg
END:VEVENT
BEGIN:VEVENT
DTSTART;TZID=America/New_York:20260417T200000
DTEND;TZID=America/New_York:20260417T220000
DTSTAMP:20260421T113824
CREATED:20260414T144631Z
LAST-MODIFIED:20260414T144632Z
UID:10001977-1776456000-1776463200@www.lynchburg.edu
SUMMARY:Alpha Psi Omega\, Theatre Honorary Play
DESCRIPTION:I Am Frankenstein\nApril 17 and 18 at 8:00pm\nStudio Theatre\, Lower level of Dillard\, Room 100\nFree event\, open seating. Latecomers cannot be seated.
URL:https://www.lynchburg.edu/event/alpha-psi-omega-theatre-honorary-play-2/
LOCATION:Studio Theatre\, Dillard Fine Arts Building
CATEGORIES:Student Events
ATTACH;FMTTYPE=image/jpeg:https://www.lynchburg.edu/wp-content/uploads/2026/04/Frankenstein-pic.jpg
ORGANIZER;CN="Jeff Wittman":MAILTO:wittman.j@lynchburg.edu
END:VEVENT
END:VCALENDAR